BEGIN:VCALENDAR
VERSION:2.0
METHOD:PUBLISH
BEGIN:VEVENT
DTSTART:20190228T160000
DTEND:20190228T161500
LOCATION:16 Yerong Street Ryde, NSW 2112
TRANSP: OPAQUE
SEQUENCE:0
UID:
DTSTAMP:20190227T164923Z
SUMMARY:Home Open - Quiet Cul de Sac Location
DESCRIPTION:This lovely 3 bedroom home is located in a quiet cul-de-sac. All the bedrooms  have built in wardrobes.  There are separate lounge and dining areas along with open plan kitchen, of which you will enjoy gas cooking appliances.
The two way bathroom consists of an over sized shower, separate bath and separate toilet whilst the internal laundry also has a  2nd toilet. 

There is a covered deck area and also a single lock up garage with internal access. 

Situated within walking distance to Meadowbank Train station, Meadowbank Ferry, M52 bus stop. 

Also just minutes to TAFE and to Top Ryde shopping centre.  

Don't delay your inspection!
PRIORITY:1
CLASS:PUBLIC
BEGIN:VALARM
TRIGGER:-PT10080M
ACTION:DISPLAY
DESCRIPTION:Reminder
END:VALARM
END:VEVENT
END:VCALENDAR
